BEGIN:VCALENDAR
VERSION:2.0
PRODID:-//Tukios.com/
BEGIN:VEVENT
UID:66796467-2385-48cc-8fd7-952c22d3e8cb@www.mccoymoore.com
DTSTAMP:20260423T214507Z
DTSTART:20260502T170000Z
DTEND:20260502T180000Z
SUMMARY:Memorial Gathering
DESCRIPTION:
URL:https://www.mccoymoore.com/obituaries/charles-mike-mclain
LOCATION:Bulaville Christian Church 2337 Johnson Ridge Road  Gallipolis 
	OH 45631
GEO:38.8997926;-82.1841886
END:VEVENT
END:VCALENDAR