BEGIN:VCALENDAR
VERSION:2.0
PRODID:-//Tukios.com/
BEGIN:VEVENT
UID:6bf05add-35ae-476d-b871-a73cc7e98dbc@www.mccoymoore.com
DTSTAMP:20260425T203753Z
DTSTART:20260429T150000Z
DTEND:20260429T160000Z
SUMMARY:Graveside Service
DESCRIPTION:
URL:https://www.mccoymoore.com/obituaries/gloria-clonch
LOCATION: 210 Addison Pike  Gallipolis  45631
GEO:38.8863058;-82.1502213
END:VEVENT
END:VCALENDAR