BEGIN:VCALENDAR
VERSION:2.0
PRODID:-//Tukios.com/
BEGIN:VEVENT
UID:ba6681aa-e9dd-4a62-aa7b-38962079ba61@www.mccoymoore.com
DTSTAMP:20260424T201813Z
DTSTART:20260428T150000Z
DTEND:20260428T170000Z
SUMMARY:Visitation
DESCRIPTION:
URL:https://www.mccoymoore.com/obituaries/phyllis-stewart
LOCATION: 420 1st Ave  Gallipolis OH 45631
GEO:38.8076037;-82.2039305
END:VEVENT
END:VCALENDAR