BEGIN:VCALENDAR
VERSION:2.0
PRODID:-//Tukios.com/
BEGIN:VEVENT
UID:cd6e424e-0c09-4670-8b9b-3f963d4bb855@www.mccoymoore.com
DTSTAMP:20260424T202113Z
DTSTART:20260428T170000Z
DTEND:20260428T180000Z
SUMMARY:Funeral Service
DESCRIPTION:
URL:https://www.mccoymoore.com/obituaries/phyllis-stewart
LOCATION: 420 1st Ave  Gallipolis OH 45631
GEO:38.8076037;-82.2039305
END:VEVENT
END:VCALENDAR